BEGIN:VCALENDAR
VERSION:2.0
PRODID:-//Kolas - ECPv6.15.20//NONSGML v1.0//EN
CALSCALE:GREGORIAN
METHOD:PUBLISH
X-ORIGINAL-URL:https://kolas.com
X-WR-CALDESC:Events for Kolas
REFRESH-INTERVAL;VALUE=DURATION:PT1H
X-Robots-Tag:noindex
X-PUBLISHED-TTL:PT1H
BEGIN:VTIMEZONE
TZID:America/Los_Angeles
BEGIN:DAYLIGHT
TZOFFSETFROM:-0800
TZOFFSETTO:-0700
TZNAME:PDT
DTSTART:20250309T100000
END:DAYLIGHT
BEGIN:STANDARD
TZOFFSETFROM:-0700
TZOFFSETTO:-0800
TZNAME:PST
DTSTART:20251102T090000
END:STANDARD
BEGIN:DAYLIGHT
TZOFFSETFROM:-0800
TZOFFSETTO:-0700
TZNAME:PDT
DTSTART:20260308T100000
END:DAYLIGHT
BEGIN:STANDARD
TZOFFSETFROM:-0700
TZOFFSETTO:-0800
TZNAME:PST
DTSTART:20261101T090000
END:STANDARD
BEGIN:DAYLIGHT
TZOFFSETFROM:-0800
TZOFFSETTO:-0700
TZNAME:PDT
DTSTART:20270314T100000
END:DAYLIGHT
BEGIN:STANDARD
TZOFFSETFROM:-0700
TZOFFSETTO:-0800
TZNAME:PST
DTSTART:20271107T090000
END:STANDARD
END:VTIMEZONE
BEGIN:VEVENT
DTSTART;TZID=America/Los_Angeles:20260130T093000
DTEND;TZID=America/Los_Angeles:20260130T113000
DTSTAMP:20260422T021716
CREATED:20260126T040754Z
LAST-MODIFIED:20260126T040754Z
UID:28457-1769765400-1769772600@kolas.com
SUMMARY:Himalaya Demo
DESCRIPTION:Promotions\, swag\, and education.
URL:https://kolas.com/event/himalaya-demo-43/
LOCATION:KOLAS Dispensary – Blumenfeld\, Blumenfeld\, CA\, United States
ATTACH;FMTTYPE=image/png:https://kolas.com/wp-content/uploads/2026/01/IMG_1583-3.png
END:VEVENT
BEGIN:VEVENT
DTSTART;TZID=America/Los_Angeles:20260130T093000
DTEND;TZID=America/Los_Angeles:20260130T120000
DTSTAMP:20260422T021716
CREATED:20260122T190100Z
LAST-MODIFIED:20260122T190100Z
UID:28421-1769765400-1769774400@kolas.com
SUMMARY:Jetty Extracts Demo
DESCRIPTION:Promo and Swag
URL:https://kolas.com/event/jetty-extracts-demo-26/
LOCATION:KOLAS Dispensary – Fruitridge/67\, Fruitridge/67\, CA\, United States
ATTACH;FMTTYPE=image/png:https://kolas.com/wp-content/uploads/2026/01/Jetty-Logo-Black-2-7-scaled.png
END:VEVENT
BEGIN:VEVENT
DTSTART;TZID=America/Los_Angeles:20260130T110000
DTEND;TZID=America/Los_Angeles:20260130T133000
DTSTAMP:20260422T021716
CREATED:20260129T214939Z
LAST-MODIFIED:20260129T214939Z
UID:28876-1769770800-1769779800@kolas.com
SUMMARY:Buddies x KOLAS (Florin Perkins/Elder Creek)
DESCRIPTION:Come meet with Buddies and learn about the variety of products they offer! Enjoy free swag during the demo with any Buddies purchase.
URL:https://kolas.com/event/buddies-x-kolas-florin-perkins-elder-creek-3/
LOCATION:KOLAS Dispensary – Elder Creek\, Elder Creek\, CA\, United States
ATTACH;FMTTYPE=image/png:https://kolas.com/wp-content/uploads/2026/01/BuddiesMark-TransparentBG-v2.png
END:VEVENT
BEGIN:VEVENT
DTSTART;TZID=America/Los_Angeles:20260130T110000
DTEND;TZID=America/Los_Angeles:20260130T140000
DTSTAMP:20260422T021716
CREATED:20260127T171124Z
LAST-MODIFIED:20260127T171438Z
UID:28699-1769770800-1769781600@kolas.com
SUMMARY:LAX PACKS – PAD
DESCRIPTION:3 HOUR PAD
URL:https://kolas.com/event/lax-packs-pad-20/
LOCATION:KOLAS Dispensary – Florin
ATTACH;FMTTYPE=image/jpeg:https://kolas.com/wp-content/uploads/2026/01/LAX-gallery-logo-19.jpg
END:VEVENT
BEGIN:VEVENT
DTSTART;TZID=America/Los_Angeles:20260130T110000
DTEND;TZID=America/Los_Angeles:20260130T140000
DTSTAMP:20260422T021716
CREATED:20260127T172616Z
LAST-MODIFIED:20260127T172616Z
UID:28725-1769770800-1769781600@kolas.com
SUMMARY:LAX PACKS - PAD
DESCRIPTION:3 HOURS – PAD
URL:https://kolas.com/event/lax-packs-pad-23/
LOCATION:KOLAS Dispensary – Arden Events\, 1760 Challenge Way\, Sacramento\, CA\, 95815\, United States
ATTACH;FMTTYPE=image/jpeg:https://kolas.com/wp-content/uploads/2026/01/LAX-gallery-logo-22.jpg
END:VEVENT
BEGIN:VEVENT
DTSTART;TZID=America/Los_Angeles:20260130T120000
DTEND;TZID=America/Los_Angeles:20260130T140000
DTSTAMP:20260422T021716
CREATED:20260126T040928Z
LAST-MODIFIED:20260126T040928Z
UID:28462-1769774400-1769781600@kolas.com
SUMMARY:Himalaya Demo
DESCRIPTION:Promotions\, swag\, and education.
URL:https://kolas.com/event/himalaya-demo-44/
LOCATION:KOLAS Dispensary – Arden Events\, 1760 Challenge Way\, Sacramento\, CA\, 95815\, United States
ATTACH;FMTTYPE=image/png:https://kolas.com/wp-content/uploads/2026/01/IMG_1583-4.png
END:VEVENT
BEGIN:VEVENT
DTSTART;TZID=America/Los_Angeles:20260130T140000
DTEND;TZID=America/Los_Angeles:20260130T160000
DTSTAMP:20260422T021716
CREATED:20260106T191732Z
LAST-MODIFIED:20260106T191732Z
UID:27865-1769781600-1769788800@kolas.com
SUMMARY:Traditional PAD
DESCRIPTION:Buy a jar get a preroll free at Kolas #105 – Doctor’s Orders (Sacramento – Sacramento County)
URL:https://kolas.com/event/traditional-pad-3/
LOCATION:KOlAS Dispensary – Main ave\, Main Ave.\, CA\, United States
ATTACH;FMTTYPE=image/png:https://kolas.com/wp-content/uploads/2026/01/Traditional_Black-on-White-3d-logo-2.png
ORGANIZER;CN="KOLAS":MAILTO:webmaster@kolas.com
END:VEVENT
BEGIN:VEVENT
DTSTART;TZID=America/Los_Angeles:20260130T153000
DTEND;TZID=America/Los_Angeles:20260130T183000
DTSTAMP:20260422T021716
CREATED:20260127T171213Z
LAST-MODIFIED:20260127T171333Z
UID:28704-1769787000-1769797800@kolas.com
SUMMARY:LAX PACKS – PAD
DESCRIPTION:3 hour PAD
URL:https://kolas.com/event/lax-packs-pad-21/
LOCATION:KOLAS Dispensary – 8848 Fruitridge\, CA 95826\, 8848 Fruitridge Rd\,\, Sacramento\, India
ATTACH;FMTTYPE=image/jpeg:https://kolas.com/wp-content/uploads/2026/01/LAX-gallery-logo-20.jpg
END:VEVENT
BEGIN:VEVENT
DTSTART;TZID=America/Los_Angeles:20260130T153000
DTEND;TZID=America/Los_Angeles:20260130T183000
DTSTAMP:20260422T021716
CREATED:20260127T172813Z
LAST-MODIFIED:20260127T172813Z
UID:28730-1769787000-1769797800@kolas.com
SUMMARY:LAX PACKS - PAD
DESCRIPTION:3 HOUR PAD
URL:https://kolas.com/event/lax-packs-pad-24/
LOCATION:KOLAS Dispensary – Blumenfeld\, Blumenfeld\, CA\, United States
ATTACH;FMTTYPE=image/jpeg:https://kolas.com/wp-content/uploads/2026/01/LAX-gallery-logo-23.jpg
END:VEVENT
END:VCALENDAR