BEGIN:VCALENDAR
VERSION:2.0
PRODID:-//Kolas - ECPv6.15.20//NONSGML v1.0//EN
CALSCALE:GREGORIAN
METHOD:PUBLISH
X-ORIGINAL-URL:https://kolas.com
X-WR-CALDESC:Events for Kolas
REFRESH-INTERVAL;VALUE=DURATION:PT1H
X-Robots-Tag:noindex
X-PUBLISHED-TTL:PT1H
BEGIN:VTIMEZONE
TZID:America/Los_Angeles
BEGIN:DAYLIGHT
TZOFFSETFROM:-0800
TZOFFSETTO:-0700
TZNAME:PDT
DTSTART:20250309T100000
END:DAYLIGHT
BEGIN:STANDARD
TZOFFSETFROM:-0700
TZOFFSETTO:-0800
TZNAME:PST
DTSTART:20251102T090000
END:STANDARD
BEGIN:DAYLIGHT
TZOFFSETFROM:-0800
TZOFFSETTO:-0700
TZNAME:PDT
DTSTART:20260308T100000
END:DAYLIGHT
BEGIN:STANDARD
TZOFFSETFROM:-0700
TZOFFSETTO:-0800
TZNAME:PST
DTSTART:20261101T090000
END:STANDARD
BEGIN:DAYLIGHT
TZOFFSETFROM:-0800
TZOFFSETTO:-0700
TZNAME:PDT
DTSTART:20270314T100000
END:DAYLIGHT
BEGIN:STANDARD
TZOFFSETFROM:-0700
TZOFFSETTO:-0800
TZNAME:PST
DTSTART:20271107T090000
END:STANDARD
END:VTIMEZONE
BEGIN:VEVENT
DTSTART;TZID=America/Los_Angeles:20260209T090000
DTEND;TZID=America/Los_Angeles:20260209T110000
DTSTAMP:20260422T021737
CREATED:20260129T161339Z
LAST-MODIFIED:20260129T161339Z
UID:28856-1770627600-1770634800@kolas.com
SUMMARY:818 BRANDS AT MIDTOWN
DESCRIPTION:Join us at KOLAS for an exciting vendor demo event! We’re welcoming customers and patients to come enjoy a fun atmosphere\, learn about featured brands\, and take advantage of special in-store deals. Don’t miss out on the good vibes and great offers!
URL:https://kolas.com/event/818-brands-at-midtown-3/
LOCATION:KOLAS Dispensary – All About Wellness\, 1820 S St.\, Sacramento\, United States
ATTACH;FMTTYPE=image/jpeg:https://kolas.com/wp-content/uploads/2026/01/Screenshot_26-1-2025_143058_818brands.com_-8.jpeg
END:VEVENT
BEGIN:VEVENT
DTSTART;TZID=America/Los_Angeles:20260209T120000
DTEND;TZID=America/Los_Angeles:20260209T140000
DTSTAMP:20260422T021737
CREATED:20260129T161455Z
LAST-MODIFIED:20260129T161455Z
UID:28861-1770638400-1770645600@kolas.com
SUMMARY:818 BRANDS AT MAIN
DESCRIPTION:Join us at KOLAS for an exciting vendor demo event! We’re welcoming customers and patients to come enjoy a fun atmosphere\, learn about featured brands\, and take advantage of special in-store deals. Don’t miss out on the good vibes and great offers!
URL:https://kolas.com/event/818-brands-at-main/
LOCATION:KOlAS Dispensary – Main ave\, Main Ave.\, CA\, United States
ATTACH;FMTTYPE=image/jpeg:https://kolas.com/wp-content/uploads/2026/01/Screenshot_7-9-2024_15561_www.818brands.com_-10.jpeg
END:VEVENT
END:VCALENDAR