BEGIN:VCALENDAR
VERSION:2.0
PRODID:-//Kolas - ECPv6.15.20//NONSGML v1.0//EN
CALSCALE:GREGORIAN
METHOD:PUBLISH
X-WR-CALNAME:Kolas
X-ORIGINAL-URL:https://kolas.com
X-WR-CALDESC:Events for Kolas
REFRESH-INTERVAL;VALUE=DURATION:PT1H
X-Robots-Tag:noindex
X-PUBLISHED-TTL:PT1H
BEGIN:VTIMEZONE
TZID:America/Los_Angeles
BEGIN:DAYLIGHT
TZOFFSETFROM:-0800
TZOFFSETTO:-0700
TZNAME:PDT
DTSTART:20250309T100000
END:DAYLIGHT
BEGIN:STANDARD
TZOFFSETFROM:-0700
TZOFFSETTO:-0800
TZNAME:PST
DTSTART:20251102T090000
END:STANDARD
BEGIN:DAYLIGHT
TZOFFSETFROM:-0800
TZOFFSETTO:-0700
TZNAME:PDT
DTSTART:20260308T100000
END:DAYLIGHT
BEGIN:STANDARD
TZOFFSETFROM:-0700
TZOFFSETTO:-0800
TZNAME:PST
DTSTART:20261101T090000
END:STANDARD
BEGIN:DAYLIGHT
TZOFFSETFROM:-0800
TZOFFSETTO:-0700
TZNAME:PDT
DTSTART:20270314T100000
END:DAYLIGHT
BEGIN:STANDARD
TZOFFSETFROM:-0700
TZOFFSETTO:-0800
TZNAME:PST
DTSTART:20271107T090000
END:STANDARD
END:VTIMEZONE
BEGIN:VEVENT
DTSTART;TZID=America/Los_Angeles:20260304T103000
DTEND;TZID=America/Los_Angeles:20260304T123000
DTSTAMP:20260422T003810
CREATED:20260303T204136Z
LAST-MODIFIED:20260304T175528Z
UID:29796-1772620200-1772627400@kolas.com
SUMMARY:Buddies x KOLAS (Main Ave.)
DESCRIPTION:Come meet with Buddies and learn about the variety of products they have to offer. Enjoy free swag during the demo with a purchase of any Buddies product.
URL:https://kolas.com/event/buddies-x-kolas-main-ave-4/
LOCATION:KOlAS Dispensary – Main ave\, Main Ave.\, CA\, United States
ATTACH;FMTTYPE=image/png:https://kolas.com/wp-content/uploads/2026/03/BuddiesMark-TransparentBG-v2.png
END:VEVENT
BEGIN:VEVENT
DTSTART;TZID=America/Los_Angeles:20260304T130000
DTEND;TZID=America/Los_Angeles:20260304T150000
DTSTAMP:20260422T003810
CREATED:20260303T204236Z
LAST-MODIFIED:20260303T204236Z
UID:29801-1772629200-1772636400@kolas.com
SUMMARY:Buddies x KOLAS (Arden)
DESCRIPTION:Come meet with Buddies and learn about the variety of products they have to offer. Enjoy free swag during the demo with a purchase of any Buddies product.
URL:https://kolas.com/event/buddies-x-kolas-arden-5/
LOCATION:KOLAS Dispensary – Arden Events\, 1760 Challenge Way\, Sacramento\, CA\, 95815\, United States
ATTACH;FMTTYPE=image/png:https://kolas.com/wp-content/uploads/2026/03/BuddiesMark-TransparentBG-v2-1.png
END:VEVENT
BEGIN:VEVENT
DTSTART;TZID=America/Los_Angeles:20260304T160000
DTEND;TZID=America/Los_Angeles:20260304T180000
DTSTAMP:20260422T003810
CREATED:20260303T204343Z
LAST-MODIFIED:20260303T204343Z
UID:29806-1772640000-1772647200@kolas.com
SUMMARY:Buddies x KOLAS (Blumenfeld)
DESCRIPTION:Come meet with Buddies and learn about the variety of products they have to offer. Enjoy free swag during the demo with a purchase of any Buddies product.
URL:https://kolas.com/event/buddies-x-kolas-blumenfeld-4/
LOCATION:KOLAS Dispensary – Blumenfeld\, Blumenfeld\, CA\, United States
ATTACH;FMTTYPE=image/png:https://kolas.com/wp-content/uploads/2026/03/BuddiesMark-TransparentBG-v2-2.png
END:VEVENT
END:VCALENDAR