BEGIN:VCALENDAR
VERSION:2.0
PRODID:-//Kolas - ECPv6.15.20//NONSGML v1.0//EN
CALSCALE:GREGORIAN
METHOD:PUBLISH
X-ORIGINAL-URL:https://kolas.com
X-WR-CALDESC:Events for Kolas
REFRESH-INTERVAL;VALUE=DURATION:PT1H
X-Robots-Tag:noindex
X-PUBLISHED-TTL:PT1H
BEGIN:VTIMEZONE
TZID:America/Los_Angeles
BEGIN:DAYLIGHT
TZOFFSETFROM:-0800
TZOFFSETTO:-0700
TZNAME:PDT
DTSTART:20250309T100000
END:DAYLIGHT
BEGIN:STANDARD
TZOFFSETFROM:-0700
TZOFFSETTO:-0800
TZNAME:PST
DTSTART:20251102T090000
END:STANDARD
BEGIN:DAYLIGHT
TZOFFSETFROM:-0800
TZOFFSETTO:-0700
TZNAME:PDT
DTSTART:20260308T100000
END:DAYLIGHT
BEGIN:STANDARD
TZOFFSETFROM:-0700
TZOFFSETTO:-0800
TZNAME:PST
DTSTART:20261101T090000
END:STANDARD
BEGIN:DAYLIGHT
TZOFFSETFROM:-0800
TZOFFSETTO:-0700
TZNAME:PDT
DTSTART:20270314T100000
END:DAYLIGHT
BEGIN:STANDARD
TZOFFSETFROM:-0700
TZOFFSETTO:-0800
TZNAME:PST
DTSTART:20271107T090000
END:STANDARD
END:VTIMEZONE
BEGIN:VEVENT
DTSTART;TZID=America/Los_Angeles:20260319T110000
DTEND;TZID=America/Los_Angeles:20260319T140000
DTSTAMP:20260422T003914
CREATED:20260316T034941Z
LAST-MODIFIED:20260319T134131Z
UID:30064-1773918000-1773928800@kolas.com
SUMMARY:818 Brands at Kolas Arden
DESCRIPTION:Join us at KOLAS for an exciting vendor demo event! We’re welcoming customers and patients to come enjoy a fun atmosphere\, learn about featured brands\, and take advantage of special in-store deals. Don’t miss out on the good vibes and great offers!
URL:https://kolas.com/event/818-brands-at-kolas-arden/
LOCATION:KOLAS Dispensary – Arden Events\, 1760 Challenge Way\, Sacramento\, CA\, 95815\, United States
ATTACH;FMTTYPE=image/jpeg:https://kolas.com/wp-content/uploads/2026/03/Screenshot_26-1-2025_143058_818brands.com_-4.jpeg
END:VEVENT
BEGIN:VEVENT
DTSTART;TZID=America/Los_Angeles:20260319T110000
DTEND;TZID=America/Los_Angeles:20260319T140000
DTSTAMP:20260422T003914
CREATED:20260316T210802Z
LAST-MODIFIED:20260316T210802Z
UID:30144-1773918000-1773928800@kolas.com
SUMMARY:Buddies x KOLAS (Main Ave.)
DESCRIPTION:Come visit with Buddies and learn about the variety of products they have to offer. Enjoy a promotion while they are in store\, while supplies last. Free swag with any Buddies purchase!
URL:https://kolas.com/event/buddies-x-kolas-main-ave-5/
LOCATION:KOlAS Dispensary – Main ave\, Main Ave.\, CA\, United States
ATTACH;FMTTYPE=image/jpeg:https://kolas.com/wp-content/uploads/2026/03/IMG_1937.jpeg
END:VEVENT
BEGIN:VEVENT
DTSTART;TZID=America/Los_Angeles:20260319T120000
DTEND;TZID=America/Los_Angeles:20260319T140000
DTSTAMP:20260422T003914
CREATED:20260318T042410Z
LAST-MODIFIED:20260318T042410Z
UID:30245-1773921600-1773928800@kolas.com
SUMMARY:Demo American Weed Co 12-2pm
DESCRIPTION:Buy any American Weed Product get a 2pk preroll.
URL:https://kolas.com/event/demo-american-weed-co-12-2pm-2/
LOCATION:KOLAS Dispensary – Florin
END:VEVENT
BEGIN:VEVENT
DTSTART;TZID=America/Los_Angeles:20260319T120000
DTEND;TZID=America/Los_Angeles:20260319T150000
DTSTAMP:20260422T003914
CREATED:20260316T035114Z
LAST-MODIFIED:20260319T134158Z
UID:30069-1773921600-1773932400@kolas.com
SUMMARY:818 Brands at Blumenfeld
DESCRIPTION:Join us at KOLAS for an exciting vendor demo event! We’re welcoming customers and patients to come enjoy a fun atmosphere\, learn about featured brands\, and take advantage of special in-store deals. Don’t miss out on the good vibes and great offers!
URL:https://kolas.com/event/818-brands-at-blumenfeld-4/
LOCATION:KOLAS Dispensary – Blumenfeld\, Blumenfeld\, CA\, United States
ATTACH;FMTTYPE=image/jpeg:https://kolas.com/wp-content/uploads/2026/03/Screenshot_26-1-2025_143058_818brands.com_-5.jpeg
END:VEVENT
BEGIN:VEVENT
DTSTART;TZID=America/Los_Angeles:20260319T150000
DTEND;TZID=America/Los_Angeles:20260319T170000
DTSTAMP:20260422T003914
CREATED:20260318T042545Z
LAST-MODIFIED:20260318T042704Z
UID:30249-1773932400-1773939600@kolas.com
SUMMARY:Demo American Weed Co 3-5pm
DESCRIPTION:Buy any American Weed Product get a 2pk preroll.
URL:https://kolas.com/event/demo-american-weed-co-3-5pm-2/
LOCATION:KOlAS Dispensary – Main ave\, Main Ave.\, CA\, United States
END:VEVENT
BEGIN:VEVENT
DTSTART;TZID=America/Los_Angeles:20260319T150000
DTEND;TZID=America/Los_Angeles:20260319T180000
DTSTAMP:20260422T003914
CREATED:20260316T210949Z
LAST-MODIFIED:20260316T210952Z
UID:30151-1773932400-1773943200@kolas.com
SUMMARY:Buddies x KOLAS (Arden)
DESCRIPTION:Come visit with Buddies and learn about the variety of products they have to offer. Enjoy a promotion while they are in store\, while supplies last. Free swag with any Buddies purchase!
URL:https://kolas.com/event/buddies-x-kolas-arden-6/
LOCATION:KOLAS Dispensary – Arden Events\, 1760 Challenge Way\, Sacramento\, CA\, 95815\, United States
ATTACH;FMTTYPE=image/jpeg:https://kolas.com/wp-content/uploads/2026/03/IMG_1937-2.jpeg
END:VEVENT
END:VCALENDAR