BEGIN:VCALENDAR
VERSION:2.0
PRODID:-//Kolas - ECPv6.15.20//NONSGML v1.0//EN
CALSCALE:GREGORIAN
METHOD:PUBLISH
X-ORIGINAL-URL:https://kolas.com
X-WR-CALDESC:Events for Kolas
REFRESH-INTERVAL;VALUE=DURATION:PT1H
X-Robots-Tag:noindex
X-PUBLISHED-TTL:PT1H
BEGIN:VTIMEZONE
TZID:America/Los_Angeles
BEGIN:DAYLIGHT
TZOFFSETFROM:-0800
TZOFFSETTO:-0700
TZNAME:PDT
DTSTART:20250309T100000
END:DAYLIGHT
BEGIN:STANDARD
TZOFFSETFROM:-0700
TZOFFSETTO:-0800
TZNAME:PST
DTSTART:20251102T090000
END:STANDARD
BEGIN:DAYLIGHT
TZOFFSETFROM:-0800
TZOFFSETTO:-0700
TZNAME:PDT
DTSTART:20260308T100000
END:DAYLIGHT
BEGIN:STANDARD
TZOFFSETFROM:-0700
TZOFFSETTO:-0800
TZNAME:PST
DTSTART:20261101T090000
END:STANDARD
BEGIN:DAYLIGHT
TZOFFSETFROM:-0800
TZOFFSETTO:-0700
TZNAME:PDT
DTSTART:20270314T100000
END:DAYLIGHT
BEGIN:STANDARD
TZOFFSETFROM:-0700
TZOFFSETTO:-0800
TZNAME:PST
DTSTART:20271107T090000
END:STANDARD
END:VTIMEZONE
BEGIN:VEVENT
DTSTART;TZID=America/Los_Angeles:20260321T130000
DTEND;TZID=America/Los_Angeles:20260321T150000
DTSTAMP:20260422T003952
CREATED:20260316T223134Z
LAST-MODIFIED:20260316T223134Z
UID:30182-1774098000-1774105200@kolas.com
SUMMARY:Phases   Demo
DESCRIPTION:Education and swag giveaway promotion if available
URL:https://kolas.com/event/phases-demo-9/
LOCATION:KOLAS Dispensary – Arden Events\, 1760 Challenge Way\, Sacramento\, CA\, 95815\, United States
END:VEVENT
BEGIN:VEVENT
DTSTART;TZID=America/Los_Angeles:20260321T143000
DTEND;TZID=America/Los_Angeles:20260321T163000
DTSTAMP:20260422T003952
CREATED:20260311T172058Z
LAST-MODIFIED:20260317T155106Z
UID:29995-1774103400-1774110600@kolas.com
SUMMARY:Jetty Extracts Demo
DESCRIPTION:Promo\, Info\, Swag
URL:https://kolas.com/event/jetty-extracts-demo-35/
LOCATION:KOlAS Dispensary – Main ave\, Main Ave.\, CA\, United States
ATTACH;FMTTYPE=image/png:https://kolas.com/wp-content/uploads/2026/03/Jetty-Logo-Black-2-1-scaled.png
END:VEVENT
BEGIN:VEVENT
DTSTART;TZID=America/Los_Angeles:20260321T160000
DTEND;TZID=America/Los_Angeles:20260321T180000
DTSTAMP:20260422T003952
CREATED:20260316T223358Z
LAST-MODIFIED:20260316T223358Z
UID:30186-1774108800-1774116000@kolas.com
SUMMARY:Phases demo
DESCRIPTION:Education and swag  giveaway promotion if available
URL:https://kolas.com/event/phases-demo-10/
LOCATION:CA
END:VEVENT
END:VCALENDAR