BEGIN:VCALENDAR
VERSION:2.0
PRODID:-//Kolas - ECPv6.15.20//NONSGML v1.0//EN
CALSCALE:GREGORIAN
METHOD:PUBLISH
X-WR-CALNAME:Kolas
X-ORIGINAL-URL:https://kolas.com
X-WR-CALDESC:Events for Kolas
REFRESH-INTERVAL;VALUE=DURATION:PT1H
X-Robots-Tag:noindex
X-PUBLISHED-TTL:PT1H
BEGIN:VTIMEZONE
TZID:America/Los_Angeles
BEGIN:DAYLIGHT
TZOFFSETFROM:-0800
TZOFFSETTO:-0700
TZNAME:PDT
DTSTART:20250309T100000
END:DAYLIGHT
BEGIN:STANDARD
TZOFFSETFROM:-0700
TZOFFSETTO:-0800
TZNAME:PST
DTSTART:20251102T090000
END:STANDARD
BEGIN:DAYLIGHT
TZOFFSETFROM:-0800
TZOFFSETTO:-0700
TZNAME:PDT
DTSTART:20260308T100000
END:DAYLIGHT
BEGIN:STANDARD
TZOFFSETFROM:-0700
TZOFFSETTO:-0800
TZNAME:PST
DTSTART:20261101T090000
END:STANDARD
BEGIN:DAYLIGHT
TZOFFSETFROM:-0800
TZOFFSETTO:-0700
TZNAME:PDT
DTSTART:20270314T100000
END:DAYLIGHT
BEGIN:STANDARD
TZOFFSETFROM:-0700
TZOFFSETTO:-0800
TZNAME:PST
DTSTART:20271107T090000
END:STANDARD
END:VTIMEZONE
BEGIN:VEVENT
DTSTART;TZID=America/Los_Angeles:20260422T110000
DTEND;TZID=America/Los_Angeles:20260422T130000
DTSTAMP:20260422T015819
CREATED:20260317T163000Z
LAST-MODIFIED:20260317T163212Z
UID:30224-1776855600-1776862800@kolas.com
SUMMARY:THC
DESCRIPTION:B2G1
URL:https://kolas.com/event/thc/
LOCATION:KOLAS Dispensary – Fruitridge Events\, 6720 Fruitridge Rd #120\, Sacramento\, CA\, 95820\, United States
ORGANIZER;CN="wyld":MAILTO:Sarahc@nwconfections.com
END:VEVENT
BEGIN:VEVENT
DTSTART;TZID=America/Los_Angeles:20260422T110000
DTEND;TZID=America/Los_Angeles:20260422T140000
DTSTAMP:20260422T015819
CREATED:20260416T225015Z
LAST-MODIFIED:20260416T225015Z
UID:31641-1776855600-1776866400@kolas.com
SUMMARY:LAX PACKS - PAD
DESCRIPTION:3 HOUR – PAD
URL:https://kolas.com/event/lax-packs-pad-39/
LOCATION:KOLAS Dispensary – 8848 Fruitridge\, CA 95826\, 8848 Fruitridge Rd\,\, Sacramento\, India
ATTACH;FMTTYPE=image/jpeg:https://kolas.com/wp-content/uploads/2026/04/LAX-gallery-logo-1-5.jpg
END:VEVENT
BEGIN:VEVENT
DTSTART;TZID=America/Los_Angeles:20260422T160000
DTEND;TZID=America/Los_Angeles:20260423T190000
DTSTAMP:20260422T015819
CREATED:20260416T225215Z
LAST-MODIFIED:20260416T225215Z
UID:31646-1776873600-1776970800@kolas.com
SUMMARY:LAX PACKS - PAD
DESCRIPTION:3 HOUR PAD
URL:https://kolas.com/event/lax-packs-pad-40/
LOCATION:KOLAS Dispensary – Blumenfeld\, Blumenfeld\, CA\, United States
ATTACH;FMTTYPE=image/jpeg:https://kolas.com/wp-content/uploads/2026/04/LAX-gallery-logo-1-6.jpg
END:VEVENT
END:VCALENDAR