BEGIN:VCALENDAR
VERSION:2.0
PRODID:-//Kolas - ECPv6.15.20//NONSGML v1.0//EN
CALSCALE:GREGORIAN
METHOD:PUBLISH
X-WR-CALNAME:Kolas
X-ORIGINAL-URL:https://kolas.com
X-WR-CALDESC:Events for Kolas
REFRESH-INTERVAL;VALUE=DURATION:PT1H
X-Robots-Tag:noindex
X-PUBLISHED-TTL:PT1H
BEGIN:VTIMEZONE
TZID:America/Los_Angeles
BEGIN:DAYLIGHT
TZOFFSETFROM:-0800
TZOFFSETTO:-0700
TZNAME:PDT
DTSTART:20250309T100000
END:DAYLIGHT
BEGIN:STANDARD
TZOFFSETFROM:-0700
TZOFFSETTO:-0800
TZNAME:PST
DTSTART:20251102T090000
END:STANDARD
BEGIN:DAYLIGHT
TZOFFSETFROM:-0800
TZOFFSETTO:-0700
TZNAME:PDT
DTSTART:20260308T100000
END:DAYLIGHT
BEGIN:STANDARD
TZOFFSETFROM:-0700
TZOFFSETTO:-0800
TZNAME:PST
DTSTART:20261101T090000
END:STANDARD
BEGIN:DAYLIGHT
TZOFFSETFROM:-0800
TZOFFSETTO:-0700
TZNAME:PDT
DTSTART:20270314T100000
END:DAYLIGHT
BEGIN:STANDARD
TZOFFSETFROM:-0700
TZOFFSETTO:-0800
TZNAME:PST
DTSTART:20271107T090000
END:STANDARD
END:VTIMEZONE
BEGIN:VEVENT
DTSTART;TZID=America/Los_Angeles:20260422T160000
DTEND;TZID=America/Los_Angeles:20260423T190000
DTSTAMP:20260423T013938
CREATED:20260416T225215Z
LAST-MODIFIED:20260416T225215Z
UID:31646-1776873600-1776970800@kolas.com
SUMMARY:LAX PACKS - PAD
DESCRIPTION:3 HOUR PAD
URL:https://kolas.com/event/lax-packs-pad-40/
LOCATION:KOLAS Dispensary – Blumenfeld\, Blumenfeld\, CA\, United States
ATTACH;FMTTYPE=image/jpeg:https://kolas.com/wp-content/uploads/2026/04/LAX-gallery-logo-1-6.jpg
END:VEVENT
BEGIN:VEVENT
DTSTART;TZID=America/Los_Angeles:20260423T150000
DTEND;TZID=America/Los_Angeles:20260423T170000
DTSTAMP:20260423T013938
CREATED:20260410T171011Z
LAST-MODIFIED:20260410T171011Z
UID:30895-1776956400-1776963600@kolas.com
SUMMARY:Pacific Stone/Time Machine Demo
DESCRIPTION:Bogo deal with promo product
URL:https://kolas.com/event/pacific-stone-time-machine-demo-9/
LOCATION:KOLAS Dispensary – All About Wellness\, 1820 S St.\, Sacramento\, United States
END:VEVENT
END:VCALENDAR